BEGIN:VCALENDAR
VERSION:2.0
PRODID:-//Tukios.com/
BEGIN:VEVENT
UID:89c24f99-07cb-4457-9e86-8baef1fe223c@www.ottawafuneralhome.com
DTSTAMP:20260423T210957Z
DTSTART:20260530T160000Z
DTEND:20260530T170000Z
SUMMARY:Burial
DESCRIPTION:
URL:https://www.ottawafuneralhome.com/obituaries/merlyn-higgins
LOCATION:     
GEO:0;0
END:VEVENT
END:VCALENDAR