BEGIN:VCALENDAR
VERSION:2.0
PRODID:-//Tukios.com/
BEGIN:VEVENT
UID:f19112ba-519f-428c-84cb-ec6cc3417eeb@www.ottawafuneralhome.com
DTSTAMP:20260421T183222Z
DTSTART:20260427T150000Z
DTEND:20260427T170000Z
SUMMARY:Visitation
DESCRIPTION:
URL:https://www.ottawafuneralhome.com/obituaries/daryl-hoyt
LOCATION:Ottawa Funeral Home 1111 LaSalle St  Ottawa IL 61350
GEO:41.3515139;-88.8430157
END:VEVENT
END:VCALENDAR