BEGIN:VCALENDAR
VERSION:2.0
PRODID:-//Tukios.com/
BEGIN:VEVENT
UID:45d951b3-594b-40bf-9e30-5fc7d2418773@www.ottawafuneralhome.com
DTSTAMP:20260421T183751Z
DTSTART:20260427T170000Z
DTEND:20260427T180000Z
SUMMARY:Funeral Service
DESCRIPTION:
URL:https://www.ottawafuneralhome.com/obituaries/daryl-hoyt
LOCATION:Ottawa Funeral Home 1111 LaSalle St  Ottawa IL 61350
GEO:41.3515139;-88.8430157
END:VEVENT
END:VCALENDAR